BEGIN:VCALENDAR
VERSION:2.0
PRODID:-//ci:tməxw Environmental Community - ECPv6.15.14//NONSGML v1.0//EN
CALSCALE:GREGORIAN
METHOD:PUBLISH
X-WR-CALNAME:ci:tməxw Environmental Community
X-ORIGINAL-URL:https://es.sd42.ca
X-WR-CALDESC:Events for ci:tməxw Environmental Community
REFRESH-INTERVAL;VALUE=DURATION:PT1H
X-Robots-Tag:noindex
X-PUBLISHED-TTL:PT1H
BEGIN:VTIMEZONE
TZID:UTC
BEGIN:STANDARD
TZOFFSETFROM:+0000
TZOFFSETTO:+0000
TZNAME:UTC
DTSTART:20240101T000000
END:STANDARD
END:VTIMEZONE
BEGIN:VEVENT
DTSTART;VALUE=DATE:20251027
DTEND;VALUE=DATE:20251108
DTSTAMP:20260419T120943
CREATED:20250826T045014Z
LAST-MODIFIED:20251026T223242Z
UID:1038-1761523200-1762559999@es.sd42.ca
SUMMARY:Maple Ridge Park
DESCRIPTION:
URL:https://es.sd42.ca/event/albion-park/
END:VEVENT
END:VCALENDAR